BEGIN:VCALENDAR
VERSION:2.0
PRODID:-//The Association of Physicians of India - ECPv6.12.0.1//NONSGML v1.0//EN
CALSCALE:GREGORIAN
METHOD:PUBLISH
X-WR-CALNAME:The Association of Physicians of India
X-ORIGINAL-URL:https://www.apikarnataka.org
X-WR-CALDESC:Events for The Association of Physicians of India
REFRESH-INTERVAL;VALUE=DURATION:PT1H
X-Robots-Tag:noindex
X-PUBLISHED-TTL:PT1H
BEGIN:VTIMEZONE
TZID:Asia/Kolkata
BEGIN:STANDARD
TZOFFSETFROM:+0530
TZOFFSETTO:+0530
TZNAME:IST
DTSTART:20250101T000000
END:STANDARD
END:VTIMEZONE
BEGIN:VEVENT
DTSTART;TZID=Asia/Kolkata:20250517T173000
DTEND;TZID=Asia/Kolkata:20250517T223000
DTSTAMP:20260420T030140
CREATED:20250516T053859Z
LAST-MODIFIED:20250516T053859Z
UID:4112-1747503000-1747521000@www.apikarnataka.org
SUMMARY:Hypertension Conclave 2025 - 17th May'2025
DESCRIPTION:Hypertension Conclave 2025 on the occasion of World Hypertesion Day is celebrated  in association with API Karnataka\, Bangalore Chapter at  API Bhvana.Vasanthnagar\, Bengaluru \, on 17th May’2025  – 6PM onwards. \nHypertension Conclave Invite F7
URL:https://www.apikarnataka.org/latestevents/hypertension-conclave-2025-17th-may2025/
LOCATION:API Bhavana\, Miller Tank Bund Road\, Vasantnagar\, Bangalore – 560 052\, Miller Tank Bund Road\, Bangalore\, Karnataka\, 560052\, India
END:VEVENT
BEGIN:VEVENT
DTSTART;TZID=Asia/Kolkata:20250511T093000
DTEND;TZID=Asia/Kolkata:20250511T140000
DTSTAMP:20260420T030140
CREATED:20250426T055608Z
LAST-MODIFIED:20250426T055608Z
UID:4083-1746955800-1746972000@www.apikarnataka.org
SUMMARY:Artificial Intelligence in Health care on 11th May 2025
DESCRIPTION:Artificial Intelligence in Health care on 11th May 2025 organised by Medical Education Research Trust and Association of Physicians of India – Karnataka Chapter. \nPlace: API Bhavana\, Bangalore \nArtificial Intelligence in Health Care
URL:https://www.apikarnataka.org/latestevents/artificial-intelligence-in-health-care-on-11th-may-2025/
LOCATION:API Bhavana\, Miller Tank Bund Road\, Vasantnagar\, Bangalore – 560 052\, Miller Tank Bund Road\, Bangalore\, Karnataka\, 560052\, India
END:VEVENT
BEGIN:VEVENT
DTSTART;TZID=Asia/Kolkata:20250503T080000
DTEND;TZID=Asia/Kolkata:20250531T170000
DTSTAMP:20260420T030140
CREATED:20250503T160308Z
LAST-MODIFIED:20250503T160308Z
UID:4086-1746259200-1748710800@www.apikarnataka.org
SUMMARY:Election Results 2025-26
DESCRIPTION:GREETINGS FROM API KARNATAKA CHAPTER \nFollowing are the Honourable Members Elected to various posts of API Karnataka Chapter for the year 2025-2026. We extend our Heart felt\ncongratulations to all elected members and look forward to their contributions to API Karnataka Chapter. \nElection Resuts 2025-26
URL:https://www.apikarnataka.org/latestevents/election-results-2025-26/
LOCATION:Karnataka
END:VEVENT
END:VCALENDAR