BEGIN:VCALENDAR
VERSION:2.0
PRODID:-//The Association of Physicians of India - ECPv6.12.0.1//NONSGML v1.0//EN
CALSCALE:GREGORIAN
METHOD:PUBLISH
X-WR-CALNAME:The Association of Physicians of India
X-ORIGINAL-URL:https://www.apikarnataka.org
X-WR-CALDESC:Events for The Association of Physicians of India
REFRESH-INTERVAL;VALUE=DURATION:PT1H
X-Robots-Tag:noindex
X-PUBLISHED-TTL:PT1H
BEGIN:VTIMEZONE
TZID:Asia/Kolkata
BEGIN:STANDARD
TZOFFSETFROM:+0530
TZOFFSETTO:+0530
TZNAME:IST
DTSTART:20260101T000000
END:STANDARD
END:VTIMEZONE
BEGIN:VEVENT
DTSTART;VALUE=DATE:20260508
DTEND;VALUE=DATE:20260511
DTSTAMP:20260420T045426
CREATED:20251216T084344Z
LAST-MODIFIED:20260213T060013Z
UID:4355-1778198400-1778457599@www.apikarnataka.org
SUMMARY:KAPICON 2026: 08th to 10th May'2026
DESCRIPTION:Dear Members\, \nProposals are invited from the distinguished Life Members of API Karnataka Chapter for the following ORATIONS at the KAPICON Conference for the year 2026 at Shivamogga\, to be held from 08th to 10th May 2026. \nCATEGORY – 1\n\n\n“APICON – 85” Guest Lecture \n\n\nDr. K.S. Shadaksharappa Memorial Oration \n\n\nDr. V. G. Nadagouda API Honor Lecture \n\n\nDr. T. B. Basavarajendra Memorial Oration \n\n\nDr. M. Maiya Oration \n\n\n“APICON – 18” Oration \n\n\nDetails:  \nGuidelines for orations \nLetter Nomination Form of Oration Kapicon 2026 \nApplication For Dr.V.Parameshvara award \nDr.V.Parameshwara Award Circular Oration
URL:https://www.apikarnataka.org/latestevents/kapicon-2026-08th-to-10th-may2026-application-for-orations-last-date31-12-2025/
LOCATION:Shivamogga\, India
END:VEVENT
END:VCALENDAR