BEGIN:VCALENDAR
VERSION:2.0
PRODID:-//The Association of Physicians of India - ECPv6.12.0.1//NONSGML v1.0//EN
CALSCALE:GREGORIAN
METHOD:PUBLISH
X-WR-CALNAME:The Association of Physicians of India
X-ORIGINAL-URL:https://www.apikarnataka.org
X-WR-CALDESC:Events for The Association of Physicians of India
REFRESH-INTERVAL;VALUE=DURATION:PT1H
X-Robots-Tag:noindex
X-PUBLISHED-TTL:PT1H
BEGIN:VTIMEZONE
TZID:Asia/Kolkata
BEGIN:STANDARD
TZOFFSETFROM:+0530
TZOFFSETTO:+0530
TZNAME:IST
DTSTART:20260101T000000
END:STANDARD
END:VTIMEZONE
BEGIN:VEVENT
DTSTART;TZID=Asia/Kolkata:20260415T080000
DTEND;TZID=Asia/Kolkata:20260430T170000
DTSTAMP:20260420T025517
CREATED:20260303T104626Z
LAST-MODIFIED:20260413T063911Z
UID:4523-1776240000-1777568400@www.apikarnataka.org
SUMMARY:Election Notification -  Date of Commencement of voting on 15th April'2026
DESCRIPTION:ELECTION NOTICE\nLife Members of Association of Physicians of India (Karnataka Chapter) desirous of serving the Association as office bearers (2026 -2027) to the following posts are requested to send their nomination papers as per enclosed proforma to API Office before 20th March 2026\, 5.00 PM duly proposed and seconded by valid life members of API (KC). The last date for withdrawal of nomination in writing or through mail is 27th March 2026. 5.00. PM. \nElection Circular 2026-2027 \nElection Application \nContestants for Chairman Post: \nDr.Ravikeerthy M \nDr.B.J.Subhash Chandra \nContestants for EC Members: \nDr.Vamadeva G M \nDr.Uday S Bande \nDr.Siddalinga Reddy \nDr.Shivashankar K N \nDr.Rekha M C \nDr.Raghavendra B M \nDr.Prashanth B V \nDr.Prashant Patil \nDr.Prakash G Mantur \nDr.M.Srinivas \nDr.K.S.Satish Ramana \nDr.Darshana \nDr Sahadev H K \nDr P K Pai \n 
URL:https://www.apikarnataka.org/latestevents/election-notification-last-day-for-filing-nomination-20-03-2026-_5pm/
LOCATION:API Bhavana\, Miller Tank Bund Road\, Vasantnagar\, Bangalore – 560 052\, Miller Tank Bund Road\, Bangalore\, Karnataka\, 560052\, India
END:VEVENT
END:VCALENDAR